BEGIN:VCALENDAR
VERSION:2.0
PRODID:-//Sciandri Sportstimulering - ECPv6.15.18//NONSGML v1.0//EN
CALSCALE:GREGORIAN
METHOD:PUBLISH
X-WR-CALNAME:Sciandri Sportstimulering
X-ORIGINAL-URL:https://sciandri.com
X-WR-CALDESC:Evenementen voor Sciandri Sportstimulering
REFRESH-INTERVAL;VALUE=DURATION:PT1H
X-Robots-Tag:noindex
X-PUBLISHED-TTL:PT1H
BEGIN:VTIMEZONE
TZID:Europe/Helsinki
BEGIN:DAYLIGHT
TZOFFSETFROM:+0200
TZOFFSETTO:+0300
TZNAME:EEST
DTSTART:20240331T010000
END:DAYLIGHT
BEGIN:STANDARD
TZOFFSETFROM:+0300
TZOFFSETTO:+0200
TZNAME:EET
DTSTART:20241027T010000
END:STANDARD
BEGIN:DAYLIGHT
TZOFFSETFROM:+0200
TZOFFSETTO:+0300
TZNAME:EEST
DTSTART:20250330T010000
END:DAYLIGHT
BEGIN:STANDARD
TZOFFSETFROM:+0300
TZOFFSETTO:+0200
TZNAME:EET
DTSTART:20251026T010000
END:STANDARD
BEGIN:DAYLIGHT
TZOFFSETFROM:+0200
TZOFFSETTO:+0300
TZNAME:EEST
DTSTART:20260329T010000
END:DAYLIGHT
BEGIN:STANDARD
TZOFFSETFROM:+0300
TZOFFSETTO:+0200
TZNAME:EET
DTSTART:20261025T010000
END:STANDARD
END:VTIMEZONE
BEGIN:VEVENT
DTSTART;TZID=Europe/Helsinki:20251110T103000
DTEND;TZID=Europe/Helsinki:20251110T113000
DTSTAMP:20260422T050334
CREATED:20250416T075419Z
LAST-MODIFIED:20250416T075423Z
UID:10025228-1762770600-1762774200@sciandri.com
SUMMARY:Ouderensport - Het Breedhuis
DESCRIPTION:OmschrijvingEen afwisselende les om de spieren te versterken en de conditie op peil te houden. Voor de oefeningen maken we gebruik van gewichtjes\, stoelen en elastieken. Tevens komen er balans oefeningen voorbij.Na de les is er tijd voor koffie en thee om gezellig wat na te praten. Doet u ook gezellig mee?Doelgroep65+DagMaandag en donderdagKosten€ 10 voor een 10 rittenkaartHoe kan ik meedoen?Voor meer informatie:yvonne 0651275719yvonne@sciandri.com
URL:https://sciandri.com/activiteit/ouderensport-het-breedhuis/2025-11-10/
CATEGORIES:65+,Noord,Ouderen
END:VEVENT
BEGIN:VEVENT
DTSTART;TZID=Europe/Helsinki:20251110T110000
DTEND;TZID=Europe/Helsinki:20251110T120000
DTSTAMP:20260422T050334
CREATED:20250305T131302Z
LAST-MODIFIED:20250402T181958Z
UID:10024595-1762772400-1762776000@sciandri.com
SUMMARY:Wandelactiviteit - De Keyzer
DESCRIPTION:Omschrijving\nVoor ouderen die slecht ter been zijn of met een rollator lopen\, organiseert SCIANDRI een wandel activiteit vanaf ontmoetingscentrum De Keyzer. Lekker wandelen in gezelschap en genieten van de buitenlucht. Er zijn wekelijks helpende handjes die u een arm kunnen geven. We wandelen op een rustig tempo.\n\n\nDoelgroep\nOuderen (65+)\n\n\nDag\nMaandag\n\n\nKosten\nGRATIS\n\n\nHoe kan ik meedoen\n\nKom naar de locatie en wandel gezellig mee! \nVoor meer informatie: Susan@sciandri.com
URL:https://sciandri.com/activiteit/wandelactiviteit-de-keyzer-2/2025-11-10/
LOCATION:De Keyzer\, Czaar Peterstraat 12\, Amsterdam\, 1018 PR
CATEGORIES:65+,Centrum
END:VEVENT
BEGIN:VEVENT
DTSTART;TZID=Europe/Helsinki:20251110T110000
DTEND;TZID=Europe/Helsinki:20251110T120000
DTSTAMP:20260422T050334
CREATED:20251017T063759Z
LAST-MODIFIED:20251017T063801Z
UID:10026543-1762772400-1762776000@sciandri.com
SUMMARY:Fitness voor vrouwen - Huis van de Wijk Waterlandplein
DESCRIPTION:OmschrijvingVerschillende sport activiteiten waarbij we verschillende spiergroepen aanpakken om te versterken. Denk aan een bootcamp\, aerobics\, bewegen op muziek en sport & spel lessen. DoelgroepVrouwen 23+DagMaandagKosten€ 1\,–Hoe kan ik meedoenVoor meer informatie: Melanie 0623212471
URL:https://sciandri.com/activiteit/fitness-voor-vrouwen-huis-van-de-wijk-waterlandplein-3/2025-11-10/
LOCATION:Huis van de Wijk Waterlandplein\, Waterlandplein 302\, Amsterdam\, 1024 NB
CATEGORIES:23+,Noord,Vrouwen
END:VEVENT
BEGIN:VEVENT
DTSTART;TZID=Europe/Helsinki:20251110T130000
DTEND;TZID=Europe/Helsinki:20251110T140000
DTSTAMP:20260422T050334
CREATED:20250413T123215Z
LAST-MODIFIED:20250413T123235Z
UID:10024936-1762779600-1762783200@sciandri.com
SUMMARY:Stoelengym - Kastanjehof Cordaan
DESCRIPTION:OmschrijvingElke maandag organiseren we een stoelengym bij het Kastanjehof voor iedereen die in de buurt woont. We doen oefeningen op en aan de stoel. U bent van harte welkom om in deze gezellige groep mee te komen bewegen om zo samen zo fit mogelijk te blijven. En….gezelligheid staat bij ons voorop!Doelgroep60+DagMaandagKosten€ 2\,–Hoe kan ik meedoenVoor meer informatie: Yvonne schoenmaker 0651275719  yvonne@sciandri.com
URL:https://sciandri.com/activiteit/stoelengym-kastanjehof-cordaan/2025-11-10/
CATEGORIES:60+,Oost
END:VEVENT
BEGIN:VEVENT
DTSTART;TZID=Europe/Helsinki:20251110T130000
DTEND;TZID=Europe/Helsinki:20251110T140000
DTSTAMP:20260422T050334
CREATED:20250416T183852Z
LAST-MODIFIED:20250416T183854Z
UID:10025344-1762779600-1762783200@sciandri.com
SUMMARY:Ouderensport - De Rietwijker
DESCRIPTION:OmschrijvingDe training wordt in verschillende circuit vormen gegeven. Hierbij maken we gebruik van gewichtjes\, matjes\, elastieken en stoelen. We werken samen aan uw conditie en het versterken van uw spieren.Voor de les is er tijd voor een bakje koffie/thee.Doet u ook met ons mee? Doelgroep55+DagMaandagKosten€ 10 voor 10 rittenkaartHoe kan ik meedoen?Voor meer informatie:Yvonne 0651275719yvonne@sciandri.com
URL:https://sciandri.com/activiteit/ouderensport-de-rietwijker/2025-11-10/
CATEGORIES:55+,Noord,Ouderen
END:VEVENT
BEGIN:VEVENT
DTSTART;TZID=Europe/Helsinki:20251110T133000
DTEND;TZID=Europe/Helsinki:20251110T143000
DTSTAMP:20260422T050334
CREATED:20250324T101947Z
LAST-MODIFIED:20250324T102149Z
UID:10023773-1762781400-1762785000@sciandri.com
SUMMARY:Stoelengym -  Buurthuis De Schakel
DESCRIPTION:OmschrijvingElke maandag is er een stoelengym in Buurthuis De Schakel. We doen oefeningen met\, naast\, achter en voor de stoel. Daarnaast komen er vele oefeningen voorbij die de kans op valincidenten verminderen. DoelgroepOuderenDagMaandagKostenGratisHoe kan ik meedoenVoor meer informatie en/of aanmelden: yvonne@sciandri.com  // 06-51275719
URL:https://sciandri.com/activiteit/stoelengym-buurthuis-de-schakel-2/2025-11-10/
LOCATION:Buurthuis De Schakel\, Paul Scholtenstraat 36a\, Amsterdam\, 1063 NG\, Nederland
CATEGORIES:Nieuw-West,Ouderen
END:VEVENT
BEGIN:VEVENT
DTSTART;TZID=Europe/Helsinki:20251110T140000
DTEND;TZID=Europe/Helsinki:20251110T163000
DTSTAMP:20260422T050334
CREATED:20250419T185735Z
LAST-MODIFIED:20250419T185859Z
UID:10025605-1762783200-1762792200@sciandri.com
SUMMARY:Breed-uit - Breedveld
DESCRIPTION:OmschrijvingIedere maandag\, dinsdag\, woensdag\, donderdag en vrijdag organiseert SCIANDRI Breed-Uit op het Breedveld. Tikspelen\, balspelen\, estafettevormen en toernooivormen komen allemaal aanbod! Ben je tussen de 6 en 12 jaar? Kom langs en doe gezellig mee.Doelgroep6 – 12 jaar DagMaandag\, dinsdag\, woensdag\, donderdag en vrijdagKostenGRATISHoe kan ik meedoen?Kom langs en doe gezellig mee.
URL:https://sciandri.com/activiteit/breed-uit-breedveld-2/2025-11-10/
CATEGORIES:6-12jr,Noord
END:VEVENT
BEGIN:VEVENT
DTSTART;TZID=Europe/Helsinki:20251110T140000
DTEND;TZID=Europe/Helsinki:20251110T163000
DTSTAMP:20260422T050334
CREATED:20250921T182416Z
LAST-MODIFIED:20250921T182538Z
UID:10026023-1762783200-1762792200@sciandri.com
SUMMARY:Buitenspeelclub Bekkers - Kindcentrum Bekkers
DESCRIPTION:OmschrijvingKom langs bij onze activiteit waar we lekker in beweging komen met elkaar door verschillende sport en bewegen activiteiten. Doelgroep6 – 12 jaarDagMaandag\, dinsdag\, donderdag en vrijdagKostenGRATISHoe kan ik meedoen?Kom langs en doe gezellig mee!Voor meer informatie: Hossam: 0618834065 | Houssain@sciandri.com
URL:https://sciandri.com/activiteit/buitenspeelclub-mgr-bekkerschool-2/2025-11-10/
CATEGORIES:6-12jr,Noord
END:VEVENT
BEGIN:VEVENT
DTSTART;TZID=Europe/Helsinki:20251110T141500
DTEND;TZID=Europe/Helsinki:20251110T163000
DTSTAMP:20260422T050334
CREATED:20250921T181811Z
LAST-MODIFIED:20250921T181837Z
UID:10025961-1762784100-1762792200@sciandri.com
SUMMARY:DOK 10 - Basisschool Dok 10
DESCRIPTION:OmschrijvingKom langs bij onze activiteit waar we lekker in beweging komen met elkaar door verschillende sport en bewegen activiteiten. Doelgroep6 – 12 jaarDag Maandag\, dinsdag\, woensdag en vrijdagKostenGratisHoe kan ik meedoenVoor meer informatie:Hossam: 0618834065 | Houssain@sciandri.com
URL:https://sciandri.com/activiteit/dok-10-basisschool-dok-10/2025-11-10/
CATEGORIES:6-12jr,Noord
END:VEVENT
BEGIN:VEVENT
DTSTART;TZID=Europe/Helsinki:20251110T143000
DTEND;TZID=Europe/Helsinki:20251110T163000
DTSTAMP:20260422T050334
CREATED:20250921T180553Z
LAST-MODIFIED:20250921T180712Z
UID:10025921-1762785000-1762792200@sciandri.com
SUMMARY:Sportmix de Bongerd - Achter IKC Noordrijk (kunstgrasveld)
DESCRIPTION:Omschrijving\nI \n\n\n\n\n\nKom langs bij onze activiteit waar we lekker in beweging komen met elkaar door verschillende sport en bewegen activiteiten. \n\n\n\n\n\n\nDoelgroep\n6 – 12 jr.\n\n\nDag\nMaandag\n\n\nKosten\nGRATIS\n\n\nHoe kan ik meedoen\n\nHet is een open instuif dus kom en doe mee ! \nVoor meer informatie: \n\n\n\n\n\nHossam: 0618834065 | Houssain@sciandri.com
URL:https://sciandri.com/activiteit/sportmix-schoolplein-de-bongerd-3/2025-11-10/
CATEGORIES:6-12jr,Noord,Sportmix
END:VEVENT
BEGIN:VEVENT
DTSTART;TZID=Europe/Helsinki:20251110T150000
DTEND;TZID=Europe/Helsinki:20251110T170000
DTSTAMP:20260422T050334
CREATED:20250921T184012Z
LAST-MODIFIED:20250921T184014Z
UID:10026061-1762786800-1762794000@sciandri.com
SUMMARY:Sportmix - Vijf Sterren
DESCRIPTION:OmschrijvingKom langs bij onze activiteit waar we lekker in beweging komen met elkaar door verschillende sport en bewegen activiteiten. Doelgroep6 – 12 jaarDagMaandagKostenGratisHoe kan ik meedoenVoor meer informatie: Hossam: 0618834065 | Houssain@sciandri.com
URL:https://sciandri.com/activiteit/sportmix-vijf-sterren/2025-11-10/
CATEGORIES:6-12jr,Noord,Sportmix
END:VEVENT
BEGIN:VEVENT
DTSTART;TZID=Europe/Helsinki:20251110T150000
DTEND;TZID=Europe/Helsinki:20251110T170000
DTSTAMP:20260422T050334
CREATED:20250921T184735Z
LAST-MODIFIED:20250921T184952Z
UID:10026085-1762786800-1762794000@sciandri.com
SUMMARY:Sport en Spel met SPIN - De Lichterstraat
DESCRIPTION:OmschrijvingKom langs bij onze activiteit waar we lekker in beweging komen met elkaar door verschillende sport en bewegen activiteiten. Doelgroep6 – 12 jaarDagMaandag en vrijdagKostenGratisHoe kan ik meedoenVoor meer informatie: Hossam: 0618834065 | Houssain@sciandri.com
URL:https://sciandri.com/activiteit/sport-en-spel-met-spin-de-lichterstraat/2025-11-10/
CATEGORIES:6-12jr,Noord
END:VEVENT
BEGIN:VEVENT
DTSTART;TZID=Europe/Helsinki:20251110T150000
DTEND;TZID=Europe/Helsinki:20251110T170000
DTSTAMP:20260422T050334
CREATED:20251011T171826Z
LAST-MODIFIED:20251011T171827Z
UID:10026115-1762786800-1762794000@sciandri.com
SUMMARY:Sportmix Mariendaal - EWP plein
DESCRIPTION:OmschrijvingKom langs bij onze activiteit waar we lekker in beweging komen met elkaar door verschillende sport en bewegen activiteiten. Doelgroep6 – 12 jaarDag MaandagKostenGratisHoe kan ik meedoen?Voor meer informatie: Hossam: 0618834065 | Houssain@sciandri.com
URL:https://sciandri.com/activiteit/sportmix-mariendaal-ewp-plein/2025-11-10/
CATEGORIES:6-12jr,Noord,Sportmix
END:VEVENT
BEGIN:VEVENT
DTSTART;TZID=Europe/Helsinki:20251110T153000
DTEND;TZID=Europe/Helsinki:20251110T163000
DTSTAMP:20260422T050334
CREATED:20250306T201443Z
LAST-MODIFIED:20250328T205058Z
UID:10023643-1762788600-1762792200@sciandri.com
SUMMARY:Stoelengym - Flevopoort
DESCRIPTION:Omschrijving\n\nElke maandag van 15:30 – 16:30 uur is er een stoelengym voor ouderen. Heeft u moeite met uw balans en geeft het oefenen op een stoel u een gevoel van veiligheid? Kom dan eens mee doen. We doen oefeningen op\, met\, achter en naast de stoel. \n\n\n\nDoelgroep\nOuderen 70+\n\n\nDag\nMaandag  (op feestdagen is er geen les)\n\n\nKosten\n\n€ 1\,75 \n\n\n\nHoe kan ik meedoen\n\nKom naar de locatie en doe gezellig mee! \nVoor meer informatie: yvonne@sciandri.com
URL:https://sciandri.com/activiteit/stoelengym-flevopoort-2/2025-11-10/
LOCATION:Flevohuis\, Kramatplantsoen 101-D\, Amsterdam\, 1095 LB
CATEGORIES:70+,Oost,Ouderen
END:VEVENT
BEGIN:VEVENT
DTSTART;TZID=Europe/Helsinki:20251110T153000
DTEND;TZID=Europe/Helsinki:20251110T170000
DTSTAMP:20260422T050334
CREATED:20250409T164829Z
LAST-MODIFIED:20250409T164830Z
UID:10024749-1762788600-1762794000@sciandri.com
SUMMARY:Sport en Spel Instuif - Cruyff Court Gein
DESCRIPTION:OmschrijvingElke week verschillende sporten en spellen. Doelgroep6 – 12 jaarDagMaandagKostenGratisHoe kan ik meedoen?Kom naar de locatie en doe mee!Voor meer informatie: richmond@sciandri.com
URL:https://sciandri.com/activiteit/sport-en-spel-instuif-cruyff-court-gein/2025-11-10/
LOCATION:Vreeswijkpad 5a
CATEGORIES:6-12jr,Zuidoost
END:VEVENT
BEGIN:VEVENT
DTSTART;TZID=Europe/Helsinki:20251110T153000
DTEND;TZID=Europe/Helsinki:20251110T170000
DTSTAMP:20260422T050334
CREATED:20250414T091448Z
LAST-MODIFIED:20250414T091713Z
UID:10025123-1762788600-1762794000@sciandri.com
SUMMARY:Sportmix - Speeltuin Wittenburg
DESCRIPTION:OmschrijvingWekelijkse activiteit waarbij de kinderen mee kunnen doen met leuke sport- & spelactiviteiten.Doelgroep6- 12 jaarDagMaandagKostenGratisHoe kan ik meedoen?Kom naar de locatie en doe mee!Voor meer informatie: anouk@sciandri.com
URL:https://sciandri.com/activiteit/sportmix-speeltuin-wittenburg-3/2025-11-10/
CATEGORIES:6-12jr,Centrum,Sportmix
END:VEVENT
BEGIN:VEVENT
DTSTART;TZID=Europe/Helsinki:20251110T154500
DTEND;TZID=Europe/Helsinki:20251110T164500
DTSTAMP:20260422T050334
CREATED:20250414T092132Z
LAST-MODIFIED:20250414T092133Z
UID:10025161-1762789500-1762793100@sciandri.com
SUMMARY:Sportmix - Speeltuin De Waag
DESCRIPTION:OmschrijvingWekelijkse activiteit waarbij de kinderen mee kunnen doen met leuke sport- & spelactiviteiten.Doelgroep6 – 12 jaarDagMaandagKostenGratisHoe kan ik meedoen?Kom naar de locatie en doe mee!Voor meer informatie: anouk@sciandri.com
URL:https://sciandri.com/activiteit/sportmix-speeltuin-de-waag-2/2025-11-10/
CATEGORIES:6-12jr,Centrum,Sportmix
END:VEVENT
BEGIN:VEVENT
DTSTART;TZID=Europe/Helsinki:20251110T154500
DTEND;TZID=Europe/Helsinki:20251110T164500
DTSTAMP:20260422T050335
CREATED:20250416T085011Z
LAST-MODIFIED:20250416T085014Z
UID:10025270-1762789500-1762793100@sciandri.com
SUMMARY:Ouderensport - De Ark
DESCRIPTION:OmschrijvingDe les wordt gegeven in steeds een andere vorm van circuittraining. Zo wordt u steeds opnieuw uitgedaagd. Er wordt gebruik gemaakt van gewichtjes \, elastiekjes\, stoelen en ballen. Ook komen er balans oefeningen voorbij.Voor de les is er tijd voor een gezellig bakje koffie of thee. Doelgroep65+DagMaandagKosten€ 10 voor een 10 rittenkaartHoe kan ik meedoen?Voor meer informatie:yvonne 0651275719yvonne@sciandri.com
URL:https://sciandri.com/activiteit/ouderensport-de-ark/2025-11-10/
CATEGORIES:65+,Noord,Ouderen
END:VEVENT
BEGIN:VEVENT
DTSTART;TZID=Europe/Helsinki:20251110T170000
DTEND;TZID=Europe/Helsinki:20251110T180000
DTSTAMP:20260422T050335
CREATED:20250305T133005Z
LAST-MODIFIED:20250305T133249Z
UID:10023559-1762794000-1762797600@sciandri.com
SUMMARY:Conditietraining - Marineterrein
DESCRIPTION:Omschrijving Wit u ook uw conditie en spieruithoudingsvermogen verbeteren en wilt u lekker buiten sporten?Doe dan mee aan onze conditietraining. Tijdens de les gaan we warmlopen en doen we diverse conditionele en spierversterkende oefeningen voor het gehele lichaam. Iedereen kan meedoen op haar/zijn niveau.DoelgroepVolwassenen DagMaandag (tijdens feestdagen is er geen les)Kosten1 euroHoe kan ik meedoenVoor meer informatie of aanmelden:  susan@sciandri.com
URL:https://sciandri.com/activiteit/conditietraining-marineterrein-2/2025-11-10/
LOCATION:Marineterrein Amsterdam\, Kattenburgerstraat 7\, Amsterdam
CATEGORIES:Centrum,Volwassenen
END:VEVENT
BEGIN:VEVENT
DTSTART;TZID=Europe/Helsinki:20251110T173000
DTEND;TZID=Europe/Helsinki:20251110T193000
DTSTAMP:20260422T050335
CREATED:20250416T191847Z
LAST-MODIFIED:20250416T191857Z
UID:10025418-1762795800-1762803000@sciandri.com
SUMMARY:Jongerensport Outdoor (13+) - Oostelijke eilanden
DESCRIPTION:OmschrijvingIedere maandag organiseert SCIANDRI een jongerensport op de Oostelijke Eilanden. Ben je ouder dan 13 jaar en wil je graag lekker sporten? Doe dan met ons mee. Iedereen is welkom en er wordt hier respectvol met elkaar omgegaan. We zijn te vinden op het Wittenburgerplein of in het Funenpark.Doelgroep13+Dag MaandagKostenGratisHoe kan ik meedoen?Kom naar de locatie en doe mee!Voor meer informatie:anouk@sciandri.com
URL:https://sciandri.com/activiteit/jongerensport-outdoor-13-oostelijke-eilanden/2025-11-10/
CATEGORIES:13-18jr,Centrum
END:VEVENT
BEGIN:VEVENT
DTSTART;TZID=Europe/Helsinki:20251110T173000
DTEND;TZID=Europe/Helsinki:20251110T193000
DTSTAMP:20260422T050335
CREATED:20251011T175345Z
LAST-MODIFIED:20251011T175346Z
UID:10026139-1762795800-1762803000@sciandri.com
SUMMARY:Streetwise - De Valkplein
DESCRIPTION:OmschrijvingKom langs bij onze streetwise activiteit om mee te bewegen met andere jongeren samen.Doelgroep16 – 23 jaarDagMaandagKostenGratisHoe kan ik meedoen?Voor meer informatie: Hossam: 0618834065 | Houssain@sciandri.com
URL:https://sciandri.com/activiteit/streetwise-de-valkplein/2025-11-10/
CATEGORIES:16-23 jr,Noord
END:VEVENT
BEGIN:VEVENT
DTSTART;TZID=Europe/Helsinki:20251110T180000
DTEND;TZID=Europe/Helsinki:20251110T190000
DTSTAMP:20260422T050335
CREATED:20250305T130851Z
LAST-MODIFIED:20250305T131029Z
UID:10023517-1762797600-1762801200@sciandri.com
SUMMARY:Aerobics - Sporthal Oostenburg
DESCRIPTION:Omschrijving\nTijdens een aerobic les worden flexibiliteit\, kracht en coördinatie getraind. Tevens verbeterd u uw conditie en verbrandt u vet. De 1 uur durende les bestaat uit een warming-up\, een cardiodeel bestaande uit een choreografie van pasjes\, spierversterkende oefeningen voor het gehele lichaam en een stretch. Iedereen kan op zijn/haar eigen niveau meedoen aan de les.\n\n\nDoelgroep\nVolwassenen vanaf 18 jaar\n\n\nDag\nMaandag (tijdens feestdagen is er geen les)\n\n\nKosten\n\n€ 2\,50 volwassenen \n€ 1\,75 65+ \n€ 1\,00 met stadspas \n\n\n\nHoe kan ik meedoen\n\nKom langs in Sporthal Oostenburg en doe mee! \nVoor meer informatie: susan@sciandri.com
URL:https://sciandri.com/activiteit/aerobics-sporthal-oostenburg-2/2025-11-10/
LOCATION:Sporthal Oostenburg\, Oostenburgergracht 151\, Amsterdam\, 1018 ND
CATEGORIES:30+,40+,50+,Centrum,Volwassenen
END:VEVENT
BEGIN:VEVENT
DTSTART;TZID=Europe/Helsinki:20251110T180000
DTEND;TZID=Europe/Helsinki:20251110T220000
DTSTAMP:20260422T050335
CREATED:20251011T172518Z
LAST-MODIFIED:20251011T172519Z
UID:10026127-1762797600-1762812000@sciandri.com
SUMMARY:Streetwise Molenwijk - Cruyff Court Molenwijk
DESCRIPTION:OmschrijvingKom langs bij onze streetwise activiteit om mee te bewegen met andere jongeren samen.Doelgroep16 – 23 jaarDagMaandagKostenGratisHoe kan ik meedoen?Voor meer informatie: Hossam: 0618834065 | Houssain@sciandri.com
URL:https://sciandri.com/activiteit/streetwise-molenwijk-cruyff-court-molenwijk/2025-11-10/
CATEGORIES:16-23 jr,Noord
END:VEVENT
BEGIN:VEVENT
DTSTART;TZID=Europe/Helsinki:20251110T210000
DTEND;TZID=Europe/Helsinki:20251110T230000
DTSTAMP:20260422T050335
CREATED:20251011T175924Z
LAST-MODIFIED:20251011T175925Z
UID:10026151-1762808400-1762815600@sciandri.com
SUMMARY:Jongerensport Kinderboom - Gymzaal De Kinderboom
DESCRIPTION:OmschrijvingKom langs bij onze streetwise activiteit om mee te bewegen met andere jongeren samen.Doelgroep16 – 23 jaarDagMaandagKostenGratisHoe kan ik meedoen?Voor meer informatie: Hossam: 0618834065 | Houssain@sciandri.com
URL:https://sciandri.com/activiteit/jongerensport-kinderboom-gymzaal-de-kinderboom/2025-11-10/
CATEGORIES:16-23 jr,Noord
END:VEVENT
END:VCALENDAR