BEGIN:VCALENDAR
VERSION:2.0
PRODID:-//Sciandri Sportstimulering - ECPv6.15.18//NONSGML v1.0//EN
CALSCALE:GREGORIAN
METHOD:PUBLISH
X-WR-CALNAME:Sciandri Sportstimulering
X-ORIGINAL-URL:https://sciandri.com
X-WR-CALDESC:Evenementen voor Sciandri Sportstimulering
REFRESH-INTERVAL;VALUE=DURATION:PT1H
X-Robots-Tag:noindex
X-PUBLISHED-TTL:PT1H
BEGIN:VTIMEZONE
TZID:Europe/Helsinki
BEGIN:DAYLIGHT
TZOFFSETFROM:+0200
TZOFFSETTO:+0300
TZNAME:EEST
DTSTART:20240331T010000
END:DAYLIGHT
BEGIN:STANDARD
TZOFFSETFROM:+0300
TZOFFSETTO:+0200
TZNAME:EET
DTSTART:20241027T010000
END:STANDARD
BEGIN:DAYLIGHT
TZOFFSETFROM:+0200
TZOFFSETTO:+0300
TZNAME:EEST
DTSTART:20250330T010000
END:DAYLIGHT
BEGIN:STANDARD
TZOFFSETFROM:+0300
TZOFFSETTO:+0200
TZNAME:EET
DTSTART:20251026T010000
END:STANDARD
BEGIN:DAYLIGHT
TZOFFSETFROM:+0200
TZOFFSETTO:+0300
TZNAME:EEST
DTSTART:20260329T010000
END:DAYLIGHT
BEGIN:STANDARD
TZOFFSETFROM:+0300
TZOFFSETTO:+0200
TZNAME:EET
DTSTART:20261025T010000
END:STANDARD
END:VTIMEZONE
BEGIN:VEVENT
DTSTART;TZID=Europe/Helsinki:20251120T093000
DTEND;TZID=Europe/Helsinki:20251120T103000
DTSTAMP:20260422T045612
CREATED:20250414T085320Z
LAST-MODIFIED:20250414T085358Z
UID:10025088-1763631000-1763634600@sciandri.com
SUMMARY:Vrouwensport - Vrouw en Vaart
DESCRIPTION:OmschrijvingElke donderdag organiseren we een vrouwensport in Vrouw en Vaart. We trainen samen om stap voor stap fitter worden in een gezellige sfeer waar alle vrouwen welkom zijn. Werk aan je gezondheid en beweeg met ons mee!DoelgroepVrouwenDagDonderdagKosten€ 1\,–Hoe kan ik meedoen?Voor meer informatie:Yvonne 0651275719yvonne@sciandri.com
URL:https://sciandri.com/activiteit/vrouwensport-vrouw-en-vaart/2025-11-20/
CATEGORIES:30+,40+,50+,60+,Nieuw-West,Volwassenen,Vrouwen
END:VEVENT
BEGIN:VEVENT
DTSTART;TZID=Europe/Helsinki:20251120T103000
DTEND;TZID=Europe/Helsinki:20251120T113000
DTSTAMP:20260422T045612
CREATED:20250416T075419Z
LAST-MODIFIED:20250416T075423Z
UID:10025231-1763634600-1763638200@sciandri.com
SUMMARY:Ouderensport - Het Breedhuis
DESCRIPTION:OmschrijvingEen afwisselende les om de spieren te versterken en de conditie op peil te houden. Voor de oefeningen maken we gebruik van gewichtjes\, stoelen en elastieken. Tevens komen er balans oefeningen voorbij.Na de les is er tijd voor koffie en thee om gezellig wat na te praten. Doet u ook gezellig mee?Doelgroep65+DagMaandag en donderdagKosten€ 10 voor een 10 rittenkaartHoe kan ik meedoen?Voor meer informatie:yvonne 0651275719yvonne@sciandri.com
URL:https://sciandri.com/activiteit/ouderensport-het-breedhuis/2025-11-20/
CATEGORIES:65+,Noord,Ouderen
END:VEVENT
BEGIN:VEVENT
DTSTART;TZID=Europe/Helsinki:20251120T110000
DTEND;TZID=Europe/Helsinki:20251120T120000
DTSTAMP:20260422T045612
CREATED:20251107T104208Z
LAST-MODIFIED:20251107T104210Z
UID:10026567-1763636400-1763640000@sciandri.com
SUMMARY:Stoelengym - De Opgang
DESCRIPTION:OmschrijvingElke donderdag geven we een stoelengym in het Osdorperhof. We doen oefeningen op\, met\, naast en achter de stoel. Daarnaast komen er vele oefeningen voorbij die de kans op valincidenten verminderen. Kortom\, een les waar u kracht en balans kunt verbeteren. Iedereen kan mee doen op zijn/haar niveau.Doelgroep65+DagDonderdag (op feestdagen geen les en vakanties onder voorbehoud)KostenGratisHoe kan ik meedoenVoor aanmelden of meer informatie: susan@sciandri.com
URL:https://sciandri.com/activiteit/stoelengym-de-opgang-3/2025-11-20/
LOCATION:De Opgang\, Tussen Meer 68\, Amsterdam\, 1069 DS\, Nederland
CATEGORIES:65+,70+,Nieuw-West,Ouderen
END:VEVENT
BEGIN:VEVENT
DTSTART;TZID=Europe/Helsinki:20251120T111500
DTEND;TZID=Europe/Helsinki:20251120T121500
DTSTAMP:20260422T045612
CREATED:20250325T122220Z
LAST-MODIFIED:20250325T122255Z
UID:10024100-1763637300-1763640900@sciandri.com
SUMMARY:Fittraining 65+ - Huis van de Wijk België
DESCRIPTION:OmschrijvingWilt u werken aan uw gezondheid en vitaliteit? Doe dan mee aan deze groepstraining. De les bestaat uit een warming-up en spierversterkende oefeningen. Zo blijft u niet alleen fit\, maar houdt u ook uw spieren en gewrichten soepel. We sluiten uiteraard af met een stretch. Doet u ook mee?Doelgroep65+DagDonderdagKosten€ 1\,– met stadspas€ 2\,– normaalHoe kan ik meedoenVoor meer informatie en/of aanmelden: yvonne@sciandri.com // 06-51275719
URL:https://sciandri.com/activiteit/fittraining-65-huis-van-de-wijk-belgie/2025-11-20/
LOCATION:Huis van de Wijk België\, Hageland 119\, Amsterdag\, Nederland
CATEGORIES:65+,Nieuw-West,Ouderen
END:VEVENT
BEGIN:VEVENT
DTSTART;TZID=Europe/Helsinki:20251120T113000
DTEND;TZID=Europe/Helsinki:20251120T133000
DTSTAMP:20260422T045612
CREATED:20250325T122620Z
LAST-MODIFIED:20250325T122659Z
UID:10024138-1763638200-1763645400@sciandri.com
SUMMARY:Zwemmen in groepsverband - Het Marnix
DESCRIPTION:Omschrijving\nOp donderdag kunt u bij ons banen zwemmen met korting. Wilt u graag lekker bewegen en mensen ontmoeten? Tijdens deze activiteit zwemmen we een uur en daarna drinken we gezamenlijk een kopje koffie/thee. Tussen 11:15 uur – 11:30 uur  kunt u bij ons een entreebandje halen. Een zwemdiploma is verplicht\, omdat er geen zwemles wordt gegeven. De kosten bedragen €4\,- per keer. Aanmelden voor de activiteit is noodzakelijk en kan via Yvonne.sciandri@gmail.com.\n\n\nDoelgroep\nVolwassenen/ouderen\n\n\nDag\nDonderdag (op feestdagen is er geen les)\n\n\nKosten\n€4\,-\n\n\nHoe kan ik meedoen\nAanmelden kan via Yvonne@sciandri.com
URL:https://sciandri.com/activiteit/zwemmen-in-groepsverband-het-marnix-2/2025-11-20/
LOCATION:Het Marnix\, Marnixplein 1\, Amsterdam\, 1015 ZN
CATEGORIES:40+,Centrum
END:VEVENT
BEGIN:VEVENT
DTSTART;TZID=Europe/Helsinki:20251120T140000
DTEND;TZID=Europe/Helsinki:20251120T150000
DTSTAMP:20260422T045612
CREATED:20250328T204703Z
LAST-MODIFIED:20250328T204939Z
UID:10024403-1763647200-1763650800@sciandri.com
SUMMARY:Rollator wandelen - Verzorgingstehuis de Keyzer
DESCRIPTION:OmschrijvingElke donderdagmiddag nemen we bewoners van verzorgingstehuis de Keyzer mee naar buiten voor een gezellige wandeling. In een rolstoel\, met de rollator of zelfstandig lopend\, iedereen kan met ons mee. Onder begeleiding van vrijwilligers kunnen wij elke week een hoop ouderen mee nemen met deze activiteit. Woont u in de buurt en vindt u het gezellig om ook mee te lopen\, iedereen is welkom!DoelgroepOuderenDagDonderdagKostenGRATISHoe kan ik meedoenKom naar de activiteit en wandel mee!Voor meer informatie: yvonne@sciandri.com
URL:https://sciandri.com/activiteit/rollator-wandelen-verzorgingstehuis-de-keyzer-2/2025-11-20/
LOCATION:Verzorgingstehuis de Keyzer\, Blankenstraat 29\, Amsterdam\, 1018\, Nederland
CATEGORIES:Centrum,Ouderen
END:VEVENT
BEGIN:VEVENT
DTSTART;TZID=Europe/Helsinki:20251120T140000
DTEND;TZID=Europe/Helsinki:20251120T163000
DTSTAMP:20260422T045612
CREATED:20250419T185735Z
LAST-MODIFIED:20250419T185859Z
UID:10025613-1763647200-1763656200@sciandri.com
SUMMARY:Breed-uit - Breedveld
DESCRIPTION:OmschrijvingIedere maandag\, dinsdag\, woensdag\, donderdag en vrijdag organiseert SCIANDRI Breed-Uit op het Breedveld. Tikspelen\, balspelen\, estafettevormen en toernooivormen komen allemaal aanbod! Ben je tussen de 6 en 12 jaar? Kom langs en doe gezellig mee.Doelgroep6 – 12 jaar DagMaandag\, dinsdag\, woensdag\, donderdag en vrijdagKostenGRATISHoe kan ik meedoen?Kom langs en doe gezellig mee.
URL:https://sciandri.com/activiteit/breed-uit-breedveld-2/2025-11-20/
CATEGORIES:6-12jr,Noord
END:VEVENT
BEGIN:VEVENT
DTSTART;TZID=Europe/Helsinki:20251120T140000
DTEND;TZID=Europe/Helsinki:20251120T163000
DTSTAMP:20260422T045612
CREATED:20250921T182416Z
LAST-MODIFIED:20250921T182538Z
UID:10026029-1763647200-1763656200@sciandri.com
SUMMARY:Buitenspeelclub Bekkers - Kindcentrum Bekkers
DESCRIPTION:OmschrijvingKom langs bij onze activiteit waar we lekker in beweging komen met elkaar door verschillende sport en bewegen activiteiten. Doelgroep6 – 12 jaarDagMaandag\, dinsdag\, donderdag en vrijdagKostenGRATISHoe kan ik meedoen?Kom langs en doe gezellig mee!Voor meer informatie: Hossam: 0618834065 | Houssain@sciandri.com
URL:https://sciandri.com/activiteit/buitenspeelclub-mgr-bekkerschool-2/2025-11-20/
CATEGORIES:6-12jr,Noord
END:VEVENT
BEGIN:VEVENT
DTSTART;TZID=Europe/Helsinki:20251120T150000
DTEND;TZID=Europe/Helsinki:20251120T160000
DTSTAMP:20260422T045612
CREATED:20250328T210557Z
LAST-MODIFIED:20250328T210732Z
UID:10024556-1763650800-1763654400@sciandri.com
SUMMARY:Rollator Wandelen - Sarphathihuis
DESCRIPTION:Omschrijving\nElke donderdagmiddag nemen we bewoners van het Sarphatihuis mee naar buiten voor een gezellige wandeling. In een rolstoel\, met de rollator of zelfstandig lopend\, iedereen kan met ons mee. Onder begeleiding van vrijwilligers kunnen wij elke week een hoop ouderen mee nemen met deze activiteit. Woont u in de buurt en vindt u het gezellig om ook mee te lopen\, iedereen is welkom!\n\n\nDoelgroep\nOuderen\n\n\nDag\nDonderdag \n\n\nKosten\nGRATIS\n\n\nHoe kan ik meedoen\n\nKom naar de activiteit en wandel mee! \nVoor meer informatie: yvonne@sciandri.com
URL:https://sciandri.com/activiteit/rollator-wandelen-sarphathihuis-2/2025-11-20/
LOCATION:Sarphatihuis\, Roetersstraat 2\, Amsterdam\, 1018 WC
CATEGORIES:Centrum,Ouderen
END:VEVENT
BEGIN:VEVENT
DTSTART;TZID=Europe/Helsinki:20251120T153000
DTEND;TZID=Europe/Helsinki:20251120T170000
DTSTAMP:20260422T045612
CREATED:20250409T165941Z
LAST-MODIFIED:20250409T165942Z
UID:10024827-1763652600-1763658000@sciandri.com
SUMMARY:Sport en Spel Instuif - Cruyff Court Holendrecht
DESCRIPTION:OmschrijvingElke week verschillende sporten en spellen.Doelgroep6 – 12 jaarDagDonderdagKostenGratisHoe kan ik meedoen?Kom naar de locatie en doe mee!Voor meer informatie: richmond@sciandri.com
URL:https://sciandri.com/activiteit/sport-en-spel-instuif-cruyff-court-holendrecht/2025-11-20/
CATEGORIES:6-12jr,Zuidoost
END:VEVENT
BEGIN:VEVENT
DTSTART;TZID=Europe/Helsinki:20251120T163000
DTEND;TZID=Europe/Helsinki:20251120T180000
DTSTAMP:20260422T045612
CREATED:20251012T063739Z
LAST-MODIFIED:20251012T063740Z
UID:10026308-1763656200-1763661600@sciandri.com
SUMMARY:Meidensport - Gymzaal Vijf Sterren
DESCRIPTION:OmschrijvingKom langs bij onze activiteit waar we lekker in beweging komen met elkaar door verschillende sport en bewegen activiteiten. DoelgroepMeiden 11 – 15 jaarDagDonderdagKostenGratisHoe kan ik meedoenVoor meer informatie: Hossam: 0618834065 | Houssain@sciandri.com
URL:https://sciandri.com/activiteit/meidensport-gymzaal-vijf-sterren/2025-11-20/
CATEGORIES:11-15 jr,Meiden,Noord
END:VEVENT
BEGIN:VEVENT
DTSTART;TZID=Europe/Helsinki:20251120T180000
DTEND;TZID=Europe/Helsinki:20251120T190000
DTSTAMP:20260422T045612
CREATED:20250325T123029Z
LAST-MODIFIED:20250325T123142Z
UID:10024176-1763661600-1763665200@sciandri.com
SUMMARY:Bodyshape - Sporthal Oostenburg
DESCRIPTION:OmschrijvingEen bodyshape is een lage impact les. Dit houdt in dat er weinig wordt gesprongen en er dus geen druk op de gewrichten wordt uitgeoefend.Tijdens de les wordt er op muziek een combinatie gemaakt van cardio training met een deel spierversterkende oefeningen voor het gehele lichaam. U verbetert niet alleen uw conditie\, maar ook uw spieruithoudingsvermogen.Iedereen kan meedoen of haar of zijn niveau.DoelgroepVolwassenenDagDonderdag (op feestdagen is er geen les)Kosten€ 2\,50 volwassenen€ 1\,75 65+€ 1\,00 met stadspasHoe kan ik meedoenKom langs in Sporthal Oostenburg en doe mee!Voor meer informatie: susan@sciandri.com
URL:https://sciandri.com/activiteit/bodyshape-sporthal-oostenburg-2/2025-11-20/
LOCATION:Sporthal Oostenburg\, Oostenburgergracht 151\, Amsterdam\, 1018 ND
CATEGORIES:Centrum,Volwassenen
ORGANIZER;CN="SCIANDRI":MAILTO:anouk@sciandri.com
END:VEVENT
BEGIN:VEVENT
DTSTART;TZID=Europe/Helsinki:20251120T180000
DTEND;TZID=Europe/Helsinki:20251120T190000
DTSTAMP:20260422T045612
CREATED:20250325T123430Z
LAST-MODIFIED:20250325T123525Z
UID:10024214-1763661600-1763665200@sciandri.com
SUMMARY:Aangepast sporten - Sporthal Oostenburg
DESCRIPTION:Omschrijving\nOp de donderdagavond hebben wij een gemengde groep sporters. Heb je een functionele\, lichamelijke- of verstandelijke beperking of kan je gewoon niet meekomen in een ander uur\, dan is dit sportuur voor jou! De sfeer in de les staat voorop\, maar ondertussen doen we veel oefeningen om het lichaam sterk te houden. Leeftijd of geslacht maakt niet uit\, iedereen is welkom!\n\n\nDoelgroep\nMensen met een beperking\n\n\nDag\nDonderdag (op feestdagen is er geen les)\n\n\nKosten\nGRATIS\n\n\nHoe kan ik meedoen\n\nKom naar de locatie en doe mee met de activiteit ! \nVoor meer informatie: yvonne@sciandri.com
URL:https://sciandri.com/activiteit/aangepast-sporten-sporthal-oostenburg/2025-11-20/
LOCATION:Sporthal Oostenburg\, Oostenburgergracht 151\, Amsterdam\, 1018 ND
CATEGORIES:Centrum,Sporters met Beperking
END:VEVENT
BEGIN:VEVENT
DTSTART;TZID=Europe/Helsinki:20251120T180000
DTEND;TZID=Europe/Helsinki:20251120T193000
DTSTAMP:20260422T045612
CREATED:20251012T070825Z
LAST-MODIFIED:20251012T070826Z
UID:10026338-1763661600-1763667000@sciandri.com
SUMMARY:Kickboks\, Fit en BBB training meiden - Gymzaal de Vijf Sterren
DESCRIPTION:OmschrijvingSamen met andere meiden lekker fit blijven tijdens kickboks en fit lessen. Sluit jij aan en wordt jij net zo fit als wij? DoelgroepMeiden 15+DagDonderdagKostenGratisHoe kan ik meedoen?Voor meer informatie: Hossam: 0618834065 | Houssain@sciandri.com
URL:https://sciandri.com/activiteit/kickboks-fit-en-bbb-training-meiden-gymzaal-de-vijf-sterren/2025-11-20/
CATEGORIES:15+,Meiden,Noord
END:VEVENT
BEGIN:VEVENT
DTSTART;TZID=Europe/Helsinki:20251120T180000
DTEND;TZID=Europe/Helsinki:20251120T200000
DTSTAMP:20260422T045612
CREATED:20251012T064106Z
LAST-MODIFIED:20251012T064107Z
UID:10026318-1763661600-1763668800@sciandri.com
SUMMARY:Streetwise - Cruyff Court VDP
DESCRIPTION:OmschrijvingKom langs bij onze streetwise activiteit om mee te bewegen met andere jongeren samen.Doelgroep16 – 23 jaarDagDonderdagKostenGratisHoe kan ik meedoen?Voor meer informatie: Hossam: 0618834065 | Houssain@sciandri.com
URL:https://sciandri.com/activiteit/streetwise-cruyff-court-vdp/2025-11-20/
CATEGORIES:16-23jr,Noord
END:VEVENT
BEGIN:VEVENT
DTSTART;TZID=Europe/Helsinki:20251120T180000
DTEND;TZID=Europe/Helsinki:20251120T200000
DTSTAMP:20260422T045612
CREATED:20251012T070324Z
LAST-MODIFIED:20251012T070325Z
UID:10026328-1763661600-1763668800@sciandri.com
SUMMARY:Streetwise Vier Windstreken - Rode plein ('t Kofschip)
DESCRIPTION:OmschrijvingKom langs bij onze streetwise activiteit om mee te bewegen met andere jongeren samen.Doelgroep16 – 23 jaarDagDonderdagKostenGratisHoe kan ik meedoen?Voor meer informatie: Hossam: 0618834065 | Houssain@sciandri.com
URL:https://sciandri.com/activiteit/streetwise-vier-windstreken-rode-plein-t-kofschip/2025-11-20/
CATEGORIES:16-23 jr,Noord
END:VEVENT
BEGIN:VEVENT
DTSTART;TZID=Europe/Helsinki:20251120T200000
DTEND;TZID=Europe/Helsinki:20251120T220000
DTSTAMP:20260422T045612
CREATED:20251012T071156Z
LAST-MODIFIED:20251012T071157Z
UID:10026348-1763668800-1763676000@sciandri.com
SUMMARY:Jongerensport Molenwijk - Cruyff Court Molenwijk
DESCRIPTION:OmschrijvingKom langs bij onze streetwise activiteit om mee te bewegen met andere jongeren samen.Doelgroep16 – 23 jaarDag DonderdagKostenGratisHoe kan ik meedoen?Voor meer informatie: Hossam: 0618834065 | Houssain@sciandri.com
URL:https://sciandri.com/activiteit/jongerensport-molenwijk-cruyff-court-molenwijk/2025-11-20/
CATEGORIES:16-23 jr,Noord
END:VEVENT
END:VCALENDAR