BEGIN:VCALENDAR
VERSION:2.0
PRODID:-//Sciandri Sportstimulering - ECPv6.15.18//NONSGML v1.0//EN
CALSCALE:GREGORIAN
METHOD:PUBLISH
X-ORIGINAL-URL:https://sciandri.com
X-WR-CALDESC:Evenementen voor Sciandri Sportstimulering
REFRESH-INTERVAL;VALUE=DURATION:PT1H
X-Robots-Tag:noindex
X-PUBLISHED-TTL:PT1H
BEGIN:VTIMEZONE
TZID:Europe/Helsinki
BEGIN:DAYLIGHT
TZOFFSETFROM:+0200
TZOFFSETTO:+0300
TZNAME:EEST
DTSTART:20240331T010000
END:DAYLIGHT
BEGIN:STANDARD
TZOFFSETFROM:+0300
TZOFFSETTO:+0200
TZNAME:EET
DTSTART:20241027T010000
END:STANDARD
BEGIN:DAYLIGHT
TZOFFSETFROM:+0200
TZOFFSETTO:+0300
TZNAME:EEST
DTSTART:20250330T010000
END:DAYLIGHT
BEGIN:STANDARD
TZOFFSETFROM:+0300
TZOFFSETTO:+0200
TZNAME:EET
DTSTART:20251026T010000
END:STANDARD
BEGIN:DAYLIGHT
TZOFFSETFROM:+0200
TZOFFSETTO:+0300
TZNAME:EEST
DTSTART:20260329T010000
END:DAYLIGHT
BEGIN:STANDARD
TZOFFSETFROM:+0300
TZOFFSETTO:+0200
TZNAME:EET
DTSTART:20261025T010000
END:STANDARD
END:VTIMEZONE
BEGIN:VEVENT
DTSTART;TZID=Europe/Helsinki:20251125T101500
DTEND;TZID=Europe/Helsinki:20251125T111500
DTSTAMP:20260422T050449
CREATED:20250325T103053Z
LAST-MODIFIED:20250325T103136Z
UID:10023941-1764065700-1764069300@sciandri.com
SUMMARY:Stoelengym - Ookmeerflat
DESCRIPTION:Activiteit\nBeweeg activiteit in de Ookmeerflat\n\n\nOmschrijving\nWe doen oefeningen met\, naast\, achter en voor de stoel. We doen spierversterkende oefeningen voor het gehele lichaam. Daarnaast komen er vele oefeningen voorbij die de kans op valincidenten verminderen.\n\n\nDoelgroep\nBewoners van Osdorp\n\n\nDag\nDinsdag\n\n\nKosten\nGRATIS\n\n\nOpgeven verplicht?\n\nNee\, kom naar de flat en doe mee. \nVoor meer informatie: yvonne@sciandri.com
URL:https://sciandri.com/activiteit/stoelengym-ookmeerflat/2025-11-25/
LOCATION:Ookmeerflat\, Ookmeerweg\, Amsterdam
CATEGORIES:65+,70+,Nieuw-West,Ouderen,Volwassenen
END:VEVENT
BEGIN:VEVENT
DTSTART;TZID=Europe/Helsinki:20251125T103000
DTEND;TZID=Europe/Helsinki:20251125T113000
DTSTAMP:20260422T050449
CREATED:20251107T103807Z
LAST-MODIFIED:20251107T103946Z
UID:10026560-1764066600-1764070200@sciandri.com
SUMMARY:Stoelengym - Dagbesteding Osdorperhof
DESCRIPTION:OmschrijvingElke dinsdagochtend geven we een stoelengym in het Osdorperhof. We doen oefeningen op\, met\, naast en achter de stoel. Daarnaast komen er vele oefeningen voorbij die de kans op valincidenten verminderen. Kortom\, een les waar u kracht en balans kunt verbeteren. Iedereen kan mee doen op zijn/haar niveau.Doelgroep65+DagDinsdagKostenGratisHoe kan ik meedoenAanmelden is gewenst en kan via: susan@sciandri.com
URL:https://sciandri.com/activiteit/stoelengym-dagbesteding-osdorperhof-3/2025-11-25/
LOCATION:Dagbesteding Osdorperhof\, Pieter Calandlaan 84\, Amsterdam\, Nederland
CATEGORIES:65+,70+,Nieuw-West,Ouderen
END:VEVENT
BEGIN:VEVENT
DTSTART;TZID=Europe/Helsinki:20251125T113000
DTEND;TZID=Europe/Helsinki:20251125T123000
DTSTAMP:20260422T050449
CREATED:20250324T103735Z
LAST-MODIFIED:20250324T103842Z
UID:10023901-1764070200-1764073800@sciandri.com
SUMMARY:Stoelengym Alan Turingschool - gymzaal Zuidpool
DESCRIPTION:OmschrijvingElke dinsdag wordt in gymzaal Zuidpool van de Alan Turingschool een stoelengym organiseert. Wij doen oefeningen zittend\, naast\, staand\, achter en met de stoel. Daarnaast komen er oefeningen voorbij die valincidenten kunnen voorkomen. Iedereen kan deelnemen op zijn/haar eigen niveau. Doelgroep65+DagDinsdagKostenGratisHoe kan ik meedoen?Voor meer informatie: yvonne@sciandri.com
URL:https://sciandri.com/activiteit/stoelengym-alan-turingschool-2/2025-11-25/
CATEGORIES:65+,Centrum
END:VEVENT
BEGIN:VEVENT
DTSTART;TZID=Europe/Helsinki:20251125T133000
DTEND;TZID=Europe/Helsinki:20251125T143000
DTSTAMP:20260422T050449
CREATED:20250402T182726Z
LAST-MODIFIED:20250402T182803Z
UID:10024674-1764077400-1764081000@sciandri.com
SUMMARY:Beweeg en leefstijl - Buurthuis Het Anker
DESCRIPTION:OmschrijvingWe doen oefeningen op\, met\, naast en achter de stoel. Daarnaast komen er vele oefeningen voorbij die de kans op valincidenten verminderen. Kortom\, een les waar u kracht en balans kunt verbeteren. Iedereen kan mee doen op zijn/haar niveau.DoelgroepOuderenDagDinsdagKostenStrippenkaart € 10\,–Hoe kan ik meedoenVoor meer informatie en/of aanmelden: yvonne@sciandri.com // 06-51275719
URL:https://sciandri.com/activiteit/beweeg-en-leefstijl-buurthuis-het-anker-2/2025-11-25/
LOCATION:Buurthuis Het Anker\, Wingerdweg 260 B\, Amsterdam\, 1032 AN\, Nederland
CATEGORIES:Noord,Ouderen
END:VEVENT
BEGIN:VEVENT
DTSTART;TZID=Europe/Helsinki:20251125T133000
DTEND;TZID=Europe/Helsinki:20251125T143000
DTSTAMP:20260422T050449
CREATED:20250413T124009Z
LAST-MODIFIED:20250413T124032Z
UID:10024976-1764077400-1764081000@sciandri.com
SUMMARY:Stoelengym / Laat je niet vallen - Speeltuin De Piramide
DESCRIPTION:OmschrijvingDeze stoelengym is een echte balans training. We oefenen op kracht\, maar doen ook veel oefeningen ter verbetering van ons balans. Het is veel leuker om samen te oefenen dan alleen.Doelgroep60+Dag DinsdagKostenGratisHoe kan ik meedoen?Voor meer informatie:Yvonne 0651275719yvonne@sciandri.com
URL:https://sciandri.com/activiteit/stoelengym-laat-je-niet-vallen-speeltuin-de-piramide/2025-11-25/
CATEGORIES:60+,Centrum
END:VEVENT
BEGIN:VEVENT
DTSTART;TZID=Europe/Helsinki:20251125T133000
DTEND;TZID=Europe/Helsinki:20251125T143000
DTSTAMP:20260422T050449
CREATED:20250416T171441Z
LAST-MODIFIED:20250416T171443Z
UID:10025309-1764077400-1764081000@sciandri.com
SUMMARY:Stoelengym - Huis van de Tijd
DESCRIPTION:OmschrijvingElke dinsdag organiseren we een stoelengym voor dementerende mensen. De gezelligheid in combinatie met bewegen staat tijdens de les vooral centraal. De les is opgebouwd in een warming up die elke week hetzelfde is. Vervolgens doen we diverse oefeningen voor de benen\, armen en buik op de stoel. We sluiten af met een stretch ens doen we ook nog een actief spelletje met een bal.DoelgroepUITSLUITEND voor mensen met dementieDagDinsdagKostenGratisHoe kan ik meedoen?Voor meer informatie en aanmelden:yvonne 0651275719yvonne@sciandri.com
URL:https://sciandri.com/activiteit/stoelengym-huis-van-de-tijd/2025-11-25/
CATEGORIES:Centrum,Dementie,Volwassenen
END:VEVENT
BEGIN:VEVENT
DTSTART;TZID=Europe/Helsinki:20251125T140000
DTEND;TZID=Europe/Helsinki:20251125T163000
DTSTAMP:20260422T050449
CREATED:20250419T185735Z
LAST-MODIFIED:20250419T185859Z
UID:10025616-1764079200-1764088200@sciandri.com
SUMMARY:Breed-uit - Breedveld
DESCRIPTION:OmschrijvingIedere maandag\, dinsdag\, woensdag\, donderdag en vrijdag organiseert SCIANDRI Breed-Uit op het Breedveld. Tikspelen\, balspelen\, estafettevormen en toernooivormen komen allemaal aanbod! Ben je tussen de 6 en 12 jaar? Kom langs en doe gezellig mee.Doelgroep6 – 12 jaar DagMaandag\, dinsdag\, woensdag\, donderdag en vrijdagKostenGRATISHoe kan ik meedoen?Kom langs en doe gezellig mee.
URL:https://sciandri.com/activiteit/breed-uit-breedveld-2/2025-11-25/
CATEGORIES:6-12jr,Noord
END:VEVENT
BEGIN:VEVENT
DTSTART;TZID=Europe/Helsinki:20251125T140000
DTEND;TZID=Europe/Helsinki:20251125T163000
DTSTAMP:20260422T050449
CREATED:20250921T182416Z
LAST-MODIFIED:20250921T182538Z
UID:10026032-1764079200-1764088200@sciandri.com
SUMMARY:Buitenspeelclub Bekkers - Kindcentrum Bekkers
DESCRIPTION:OmschrijvingKom langs bij onze activiteit waar we lekker in beweging komen met elkaar door verschillende sport en bewegen activiteiten. Doelgroep6 – 12 jaarDagMaandag\, dinsdag\, donderdag en vrijdagKostenGRATISHoe kan ik meedoen?Kom langs en doe gezellig mee!Voor meer informatie: Hossam: 0618834065 | Houssain@sciandri.com
URL:https://sciandri.com/activiteit/buitenspeelclub-mgr-bekkerschool-2/2025-11-25/
CATEGORIES:6-12jr,Noord
END:VEVENT
BEGIN:VEVENT
DTSTART;TZID=Europe/Helsinki:20251125T141500
DTEND;TZID=Europe/Helsinki:20251125T163000
DTSTAMP:20260422T050449
CREATED:20250921T181811Z
LAST-MODIFIED:20250921T181837Z
UID:10025970-1764080100-1764088200@sciandri.com
SUMMARY:DOK 10 - Basisschool Dok 10
DESCRIPTION:OmschrijvingKom langs bij onze activiteit waar we lekker in beweging komen met elkaar door verschillende sport en bewegen activiteiten. Doelgroep6 – 12 jaarDag Maandag\, dinsdag\, woensdag en vrijdagKostenGratisHoe kan ik meedoenVoor meer informatie:Hossam: 0618834065 | Houssain@sciandri.com
URL:https://sciandri.com/activiteit/dok-10-basisschool-dok-10/2025-11-25/
CATEGORIES:6-12jr,Noord
END:VEVENT
BEGIN:VEVENT
DTSTART;TZID=Europe/Helsinki:20251125T143000
DTEND;TZID=Europe/Helsinki:20251125T163000
DTSTAMP:20260422T050449
CREATED:20251011T180408Z
LAST-MODIFIED:20251011T180409Z
UID:10026165-1764081000-1764088200@sciandri.com
SUMMARY:Sportmix de Molenwijk - Schoolplein Bonkelaer
DESCRIPTION:OmschrijvingKom langs bij onze activiteit waar we lekker in beweging komen met elkaar door verschillende sport en bewegen activiteiten. Doelgroep6 – 12 jaarDagDinsdagKostenGratisHoe kan ik meedoen? Voor meer informatie: Hossam: 0618834065 | Houssain@sciandri.com
URL:https://sciandri.com/activiteit/sportmix-de-molenwijk-schoolplein-bonkelaer/2025-11-25/
CATEGORIES:6-12jr,Noord,Sportmix
END:VEVENT
BEGIN:VEVENT
DTSTART;TZID=Europe/Helsinki:20251125T153000
DTEND;TZID=Europe/Helsinki:20251125T170000
DTSTAMP:20260422T050449
CREATED:20250409T165433Z
LAST-MODIFIED:20250409T165434Z
UID:10024789-1764084600-1764090000@sciandri.com
SUMMARY:Sport en Spel Instuif - Reigersbos/Tamboerijn
DESCRIPTION:OmschrijvingElke week verschillende sporten en spellen.Doelgroep6 – 12 jaarDagDinsdagKostenGratisHoe kan ik meedoen?Kom naar de locatie en doen mee!Voor meer informatie: richmond@sciandri.com
URL:https://sciandri.com/activiteit/sport-en-spel-instuif-reigersbos-tamboerijn/2025-11-25/
CATEGORIES:6-12jr,Zuidoost
END:VEVENT
BEGIN:VEVENT
DTSTART;TZID=Europe/Helsinki:20251125T153000
DTEND;TZID=Europe/Helsinki:20251125T170000
DTSTAMP:20260422T050449
CREATED:20250416T191129Z
LAST-MODIFIED:20250416T191131Z
UID:10025383-1764084600-1764090000@sciandri.com
SUMMARY:Sportmix - Noorderspeeltuin
DESCRIPTION:OmschrijvingHet is een wekelijkse activiteit waarbij de kinderen mee kunnen doen met leuke sport- & spelactiviteiten.Doelgroep6 – 12 jaarDagDinsdagKostenGratisHoe kan ik meedoen?Kom naar de locatie en doe mee!Voor meer informatie:anouk@sciandri.com
URL:https://sciandri.com/activiteit/sportmix-noorderspeeltuin-2/2025-11-25/
CATEGORIES:6-12jr,Centrum,Sportmix
END:VEVENT
BEGIN:VEVENT
DTSTART;TZID=Europe/Helsinki:20251125T153000
DTEND;TZID=Europe/Helsinki:20251125T173000
DTSTAMP:20260422T050449
CREATED:20251011T180827Z
LAST-MODIFIED:20251011T180828Z
UID:10026177-1764084600-1764091800@sciandri.com
SUMMARY:Sportmix Meteoor - Sportpark De Meteoor
DESCRIPTION:OmschrijvingKom langs bij onze activiteit waar we lekker in beweging komen met elkaar door verschillende sport en bewegen activiteiten. Doelgroep6 – 12 jaarDag DinsdagKostenGratisHoe kan ik meedoen?Voor meer informatie: Hossam: 0618834065 | Houssain@sciandri.com
URL:https://sciandri.com/activiteit/sportmix-meteoor-sportpark-de-meteoor/2025-11-25/
CATEGORIES:6-12jr,Noord,Sportmix
END:VEVENT
BEGIN:VEVENT
DTSTART;TZID=Europe/Helsinki:20251125T170000
DTEND;TZID=Europe/Helsinki:20251125T180000
DTSTAMP:20260422T050449
CREATED:20250324T103249Z
LAST-MODIFIED:20250324T103354Z
UID:10023859-1764090000-1764093600@sciandri.com
SUMMARY:65+ Fittraining - Gymzaal Westerstraat
DESCRIPTION:Omschrijving\nElke dinsdag is er een fittraining voor ouderen. Iedereen kan deelnemen op zijn eigen niveau. De trainingen variëren van loopoefeningen\, circuit trainingen\, buikspieren en nog veel meer. Wilt u graag uw conditie verbeteren of op peil houden en vindt u het gezellig om te sporten in een groep? Doe dan mee met deze les.\n\n\nDoelgroep\n65+\n\n\nDag\nDinsdag\n\n\nKosten\n€1\,75\n\n\nHoe kan ik meedoen\nAanmelden via: Yvonne@sciandri.com
URL:https://sciandri.com/activiteit/65-fittraining-gymzaal-westerstraat/2025-11-25/
LOCATION:Gymzaal Westerstraat\, Westerstraat 202\, Amsterdam\, 1015 MS
CATEGORIES:65+,Centrum
END:VEVENT
BEGIN:VEVENT
DTSTART;TZID=Europe/Helsinki:20251125T173000
DTEND;TZID=Europe/Helsinki:20251125T183000
DTSTAMP:20260422T050449
CREATED:20250306T201806Z
LAST-MODIFIED:20250306T201928Z
UID:10023687-1764091800-1764095400@sciandri.com
SUMMARY:Vrouwensport in Huis van de Wijk De Meeuw
DESCRIPTION:OmschrijvingDeze sportactiviteit is alleen voor vrouwen en wordt gegeven door een vrouw. De les bestaat uit een warming-up\, een conditioneel gedeelte\, spierversterkende oefeningen voor het gehele lichaam en een stretch. De les is voor elke vrouw toegankelijk en een ieder kan meedoen op haar niveau.DoelgroepVrouwenDagDinsdag (op feestdagen geen les en tijdens schoolvakanties onder voorbehoud)KostenGRATISHoe kan ik meedoen?Voor meer informatie: susan@sciandri.com
URL:https://sciandri.com/activiteit/vrouwensport-in-huis-van-de-wijk-de-meeuw-2/2025-11-25/
LOCATION:huis van de wijk de meeuw\, Motorwal 300\, Amsterdam\, 1021 PH\, Nederland
CATEGORIES:Noord,Volwassenen
END:VEVENT
BEGIN:VEVENT
DTSTART;TZID=Europe/Helsinki:20251125T183000
DTEND;TZID=Europe/Helsinki:20251125T203000
DTSTAMP:20260422T050449
CREATED:20251011T181039Z
LAST-MODIFIED:20251011T181248Z
UID:10026189-1764095400-1764102600@sciandri.com
SUMMARY:Streetwise Kinderboom - Cruyff court VDP
DESCRIPTION:OmschrijvingKom langs bij onze streetwise activiteit om mee te bewegen met andere jongeren samen.Doelgroep16 – 23 jaarDag DinsdagKostenGratisHoe kan ik meedoen?Voor meer informatie: Hossam: 0618834065 | Houssain@sciandri.com
URL:https://sciandri.com/activiteit/streetwise-kinderboom-cruyff-court-vdp/2025-11-25/
CATEGORIES:16-23 jr,Noord
END:VEVENT
BEGIN:VEVENT
DTSTART;TZID=Europe/Helsinki:20251125T190000
DTEND;TZID=Europe/Helsinki:20251125T200000
DTSTAMP:20260422T050449
CREATED:20250305T204810Z
LAST-MODIFIED:20250305T204932Z
UID:10023603-1764097200-1764100800@sciandri.com
SUMMARY:Conditietraining (Volwassenen) - Sporthal Oostenburg
DESCRIPTION:OmschrijvingElke Dinsdagavond is er een conditietraining waar iedereen kan deelnemen op zijn eigen niveau. Tijdens de les gaan we warmlopen en doen we diverse conditionele en spierversterkende oefeningen voor het gehele lichaam. We maken gebruik van gewichtjes\, elastieken en het eigen gewicht.DoelgroepVolwassenenDagDinsdag (tijdens feestdagen is er geen les)Kosten€ 2\,50 per deelname€ 1\,75 65+€ 1\,– met stadspas Hoe kan ik meedoenVoor meer informatie en/of aanmelden via: susan@sciandri.com
URL:https://sciandri.com/activiteit/conditietraining-volwassenen-sporthal-oostenburg-2/2025-11-25/
LOCATION:Sporthal Oostenburg\, Oostenburgergracht 151\, Amsterdam\, 1018 ND
CATEGORIES:Centrum,Volwassenen
END:VEVENT
BEGIN:VEVENT
DTSTART;TZID=Europe/Helsinki:20251125T200000
DTEND;TZID=Europe/Helsinki:20251125T230000
DTSTAMP:20260422T050449
CREATED:20250324T102728Z
LAST-MODIFIED:20250324T103010Z
UID:10023817-1764100800-1764111600@sciandri.com
SUMMARY:Badminton en tafeltennis instuif - Sporthal Oostenburg
DESCRIPTION:OmschrijvingOp dinsdagavond hebben we een badminton en tafeltennis instuif in Sporthal Oostenburg. Je kan hier de hele avond vrij spelen en de materialen zijn te leen. DoelgroepVolwassenenDagDinsdag (tijdens feestdagen is er geen instuif)KostenVolwassenen € 3\,50met stadspas € 2\,2565+ € 1\,75Hoe kan ik meedoenKom naar de locatie en doe gezellig mee. Belangrijk om je zaalschoenen mee te nemen.Voor meer informatie: anouk@sciandri.com
URL:https://sciandri.com/activiteit/badminton-en-tafeltennis-instuif-sporthal-oostenburg-2/2025-11-25/
CATEGORIES:Centrum,Volwassenen
END:VEVENT
END:VCALENDAR