BEGIN:VCALENDAR
VERSION:2.0
PRODID:-//Sciandri Sportstimulering - ECPv6.15.18//NONSGML v1.0//EN
CALSCALE:GREGORIAN
METHOD:PUBLISH
X-WR-CALNAME:Sciandri Sportstimulering
X-ORIGINAL-URL:https://sciandri.com
X-WR-CALDESC:Evenementen voor Sciandri Sportstimulering
REFRESH-INTERVAL;VALUE=DURATION:PT1H
X-Robots-Tag:noindex
X-PUBLISHED-TTL:PT1H
BEGIN:VTIMEZONE
TZID:Europe/Helsinki
BEGIN:DAYLIGHT
TZOFFSETFROM:+0200
TZOFFSETTO:+0300
TZNAME:EEST
DTSTART:20240331T010000
END:DAYLIGHT
BEGIN:STANDARD
TZOFFSETFROM:+0300
TZOFFSETTO:+0200
TZNAME:EET
DTSTART:20241027T010000
END:STANDARD
BEGIN:DAYLIGHT
TZOFFSETFROM:+0200
TZOFFSETTO:+0300
TZNAME:EEST
DTSTART:20250330T010000
END:DAYLIGHT
BEGIN:STANDARD
TZOFFSETFROM:+0300
TZOFFSETTO:+0200
TZNAME:EET
DTSTART:20251026T010000
END:STANDARD
BEGIN:DAYLIGHT
TZOFFSETFROM:+0200
TZOFFSETTO:+0300
TZNAME:EEST
DTSTART:20260329T010000
END:DAYLIGHT
BEGIN:STANDARD
TZOFFSETFROM:+0300
TZOFFSETTO:+0200
TZNAME:EET
DTSTART:20261025T010000
END:STANDARD
END:VTIMEZONE
BEGIN:VEVENT
DTSTART;TZID=Europe/Helsinki:20251206T093000
DTEND;TZID=Europe/Helsinki:20251206T103000
DTSTAMP:20260422T032117
CREATED:20250328T205336Z
LAST-MODIFIED:20250328T205441Z
UID:10024443-1765013400-1765017000@sciandri.com
SUMMARY:Bewegen op Muziek - Sporthal Oostenburg
DESCRIPTION:Omschrijving\nIedere zaterdagochtend is er een sport les voor vrouwen. Lekker een uur lang zweten op de maat van de muziek. Werken aan de conditie en spierversterkende oefeningen\, alles komt aan bod. Iedereen kan deelnemen op haar eigen niveau.\n\n\nDoelgroep\nVrouwen\n\n\nDag\nZaterdag (op feestdagen is er geen les)\n\n\nKosten\n€ 1\,-\n\n\nHoe kan ik meedoen\nAanmelden kan via anouk@sciandri.com
URL:https://sciandri.com/activiteit/bewegen-op-muziek-sporthal-oostenburg-2/2025-12-06/
LOCATION:Sporthal Oostenburg\, Oostenburgergracht 151\, Amsterdam\, 1018 ND
CATEGORIES:Centrum,Volwassenen
END:VEVENT
BEGIN:VEVENT
DTSTART;TZID=Europe/Helsinki:20251206T110000
DTEND;TZID=Europe/Helsinki:20251206T130000
DTSTAMP:20260422T032117
CREATED:20250328T205633Z
LAST-MODIFIED:20250328T205745Z
UID:10024482-1765018800-1765026000@sciandri.com
SUMMARY:Skate en sportinstuif - Sporthal Oostenburg
DESCRIPTION:OmschrijvingLekker sporten? of liever skaten? Het kan allemaal bij de Skate en sportinstuif bij Sciandri! Kom gezellig met al je vriendjes en vriendinnetjes om 2 uur lang helemaal los te gaan!Doelgroep4-12 jaarDagZaterdag (niet op feestdagen)KostenGRATIS DUS KOM LEKKER MEEDOENHoe kan ik meedoenKom langs en doe gezellig mee!Voor meer informatie: anouk@sciandri.com
URL:https://sciandri.com/activiteit/skate-en-sportinstuif-sporthal-oostenburg/2025-12-06/
LOCATION:Sporthal Oostenburg\, Oostenburgergracht 151\, Amsterdam\, 1018 ND
CATEGORIES:10-12jr,6-12jr,Centrum,Groep 1-3,Groep3,Groep4,Groep5,Groep6,Groep7
END:VEVENT
BEGIN:VEVENT
DTSTART;TZID=Europe/Helsinki:20251206T130000
DTEND;TZID=Europe/Helsinki:20251206T150000
DTSTAMP:20260422T032118
CREATED:20251012T080648Z
LAST-MODIFIED:20251012T080650Z
UID:10026460-1765026000-1765033200@sciandri.com
SUMMARY:Sportmix Volewijck - Speeltuin Volewijck
DESCRIPTION:OmschrijvingKom langs bij onze activiteit waar we lekker in beweging komen met elkaar door verschillende sport en bewegen activiteiten. Doelgroep6 – 12 jaarDagZaterdagKostenGratisHoe kan ik meedoen? Voor meer informatie: Hossam: 0618834065 | Houssain@sciandri.com
URL:https://sciandri.com/activiteit/sportmix-volewijck-speeltuin-volewijck/2025-12-06/
CATEGORIES:6-12jr,Noord
END:VEVENT
BEGIN:VEVENT
DTSTART;TZID=Europe/Helsinki:20251206T153000
DTEND;TZID=Europe/Helsinki:20251206T173000
DTSTAMP:20260422T032118
CREATED:20251012T081008Z
LAST-MODIFIED:20251012T081010Z
UID:10026471-1765035000-1765042200@sciandri.com
SUMMARY:Streetwise kids Vijf Sterren - Vijf Sterren Schoolplein
DESCRIPTION:OmschrijvingKom langs bij onze streetwise activiteit om mee te bewegen met andere jongeren samen.Doelgroep12 – 15 jaarDag ZaterdagKostenGratisHoe kan ik meedoen?Voor meer informatie: Hossam: 0618834065 | Houssain@sciandri.com
URL:https://sciandri.com/activiteit/streetwise-kids-vijf-sterren-vijf-sterren-schoolplein/2025-12-06/
CATEGORIES:12-15jr,Noord
END:VEVENT
BEGIN:VEVENT
DTSTART;TZID=Europe/Helsinki:20251206T183000
DTEND;TZID=Europe/Helsinki:20251206T200000
DTSTAMP:20260422T032118
CREATED:20251012T081808Z
LAST-MODIFIED:20251012T081809Z
UID:10026482-1765045800-1765051200@sciandri.com
SUMMARY:Meidensport 16+ Molenwijk - Gymzaal MK Oostzanerwerf
DESCRIPTION:OmschrijvingKom langs bij onze streetwise activiteit om mee te bewegen met andere meiden samen.DoelgroepMeiden 16+DagZaterdagKostenGratisHoe kan ik meedoen? Voor meer informatie: Hossam: 0618834065 | Houssain@sciandri.com
URL:https://sciandri.com/activiteit/meidensport-16-molenwijk-gymzaal-mk-oostzanerwerf/2025-12-06/
CATEGORIES:16+,Meiden,Noord
END:VEVENT
BEGIN:VEVENT
DTSTART;TZID=Europe/Helsinki:20251206T200000
DTEND;TZID=Europe/Helsinki:20251206T213000
DTSTAMP:20260422T032118
CREATED:20251012T082152Z
LAST-MODIFIED:20251012T082153Z
UID:10026493-1765051200-1765056600@sciandri.com
SUMMARY:Meidensport 16+ - Gymzaal Kinderboom
DESCRIPTION:OmschrijvingKom langs bij onze streetwise activiteit om mee te bewegen met andere meiden samen.DoelgroepMeiden 16+DagZaterdagKostenGratisHoe kan ik meedoen?Voor meer informatie: Hossam: 0618834065 | Houssain@sciandri.com
URL:https://sciandri.com/activiteit/meidensport-16-gymzaal-kinderboom/2025-12-06/
CATEGORIES:16+,Meiden,Noord
END:VEVENT
END:VCALENDAR