BEGIN:VCALENDAR
VERSION:2.0
PRODID:-//Sciandri Sportstimulering - ECPv6.15.18//NONSGML v1.0//EN
CALSCALE:GREGORIAN
METHOD:PUBLISH
X-ORIGINAL-URL:https://sciandri.com
X-WR-CALDESC:Evenementen voor Sciandri Sportstimulering
REFRESH-INTERVAL;VALUE=DURATION:PT1H
X-Robots-Tag:noindex
X-PUBLISHED-TTL:PT1H
BEGIN:VTIMEZONE
TZID:Europe/Helsinki
BEGIN:DAYLIGHT
TZOFFSETFROM:+0200
TZOFFSETTO:+0300
TZNAME:EEST
DTSTART:20250330T010000
END:DAYLIGHT
BEGIN:STANDARD
TZOFFSETFROM:+0300
TZOFFSETTO:+0200
TZNAME:EET
DTSTART:20251026T010000
END:STANDARD
BEGIN:DAYLIGHT
TZOFFSETFROM:+0200
TZOFFSETTO:+0300
TZNAME:EEST
DTSTART:20260329T010000
END:DAYLIGHT
BEGIN:STANDARD
TZOFFSETFROM:+0300
TZOFFSETTO:+0200
TZNAME:EET
DTSTART:20261025T010000
END:STANDARD
BEGIN:DAYLIGHT
TZOFFSETFROM:+0200
TZOFFSETTO:+0300
TZNAME:EEST
DTSTART:20270328T010000
END:DAYLIGHT
BEGIN:STANDARD
TZOFFSETFROM:+0300
TZOFFSETTO:+0200
TZNAME:EET
DTSTART:20271031T010000
END:STANDARD
END:VTIMEZONE
BEGIN:VEVENT
DTSTART;TZID=Europe/Helsinki:20260223T133000
DTEND;TZID=Europe/Helsinki:20260223T160000
DTSTAMP:20260421T225423
CREATED:20260212T133411Z
LAST-MODIFIED:20260212T133412Z
UID:10026581-1771853400-1771862400@sciandri.com
SUMMARY:Voorjaarsvakantie Sportinstuif -Het Marnix
DESCRIPTION:Omschrijving Tijdens de voorjaarsvakantie organiseert Sciandri een sportinstuif in Het Marnix met o.a. springkussen\, voetbal\, basketbal\, hockey\, badminton\, kickboksen en nog veel meer.Kom je ook?Doelgroep4 – 12 jaarDagMaandag 23 en dinsdag 24 februariKostenGratisHoe kan ik meedoenKom naar de locatie en doe mee!Voor meer informatie: anouk@sciandri.com
URL:https://sciandri.com/activiteit/voorjaarsvakantie-sportinstuif-het-marnix/2026-02-23/
LOCATION:Het Marnix\, Marnixplein 1\, Amsterdam\, 1015 ZN
CATEGORIES:4-12 jr,Centrum
END:VEVENT
BEGIN:VEVENT
DTSTART;TZID=Europe/Helsinki:20260224T133000
DTEND;TZID=Europe/Helsinki:20260224T160000
DTSTAMP:20260421T225423
CREATED:20260212T133411Z
LAST-MODIFIED:20260212T133412Z
UID:10026582-1771939800-1771948800@sciandri.com
SUMMARY:Voorjaarsvakantie Sportinstuif -Het Marnix
DESCRIPTION:Omschrijving Tijdens de voorjaarsvakantie organiseert Sciandri een sportinstuif in Het Marnix met o.a. springkussen\, voetbal\, basketbal\, hockey\, badminton\, kickboksen en nog veel meer.Kom je ook?Doelgroep4 – 12 jaarDagMaandag 23 en dinsdag 24 februariKostenGratisHoe kan ik meedoenKom naar de locatie en doe mee!Voor meer informatie: anouk@sciandri.com
URL:https://sciandri.com/activiteit/voorjaarsvakantie-sportinstuif-het-marnix/2026-02-24/
LOCATION:Het Marnix\, Marnixplein 1\, Amsterdam\, 1015 ZN
CATEGORIES:4-12 jr,Centrum
END:VEVENT
BEGIN:VEVENT
DTSTART;TZID=Europe/Helsinki:20260225T130000
DTEND;TZID=Europe/Helsinki:20260225T160000
DTSTAMP:20260421T225423
CREATED:20260212T134721Z
LAST-MODIFIED:20260212T134722Z
UID:10026583-1772024400-1772035200@sciandri.com
SUMMARY:Voorjaarsvakantie: Sport en Funtoer - Sporthal Oostenburg
DESCRIPTION:Omschrijving Tijdens de voorjaarsvakantie organiseert Sciandri de Sport en Funtoer in Sporthal Oostenburg met diverse sportclinics zoals: kickboksen\, dans\, floorbal\, basketbal\, voetbal. Ook zijn er grote springkussen\, leuke run attracties en nog veel meer. Kom je ook?Doelgroep4 – 12 jaarDagWoensdag 25\, donderdag 26 en vrijdag 27 februari KostenGratis Hoe kan ik meedoenKom naar de locatie en doe mee!Voor meer informatie: anoul@sciandri.com
URL:https://sciandri.com/activiteit/voorjaarsvakantie-sport-en-funtoer-sporthal-oostenburg/2026-02-25/
CATEGORIES:4-12 jr,Centrum
END:VEVENT
BEGIN:VEVENT
DTSTART;TZID=Europe/Helsinki:20260226T130000
DTEND;TZID=Europe/Helsinki:20260226T160000
DTSTAMP:20260421T225423
CREATED:20260212T134721Z
LAST-MODIFIED:20260212T134722Z
UID:10026584-1772110800-1772121600@sciandri.com
SUMMARY:Voorjaarsvakantie: Sport en Funtoer - Sporthal Oostenburg
DESCRIPTION:Omschrijving Tijdens de voorjaarsvakantie organiseert Sciandri de Sport en Funtoer in Sporthal Oostenburg met diverse sportclinics zoals: kickboksen\, dans\, floorbal\, basketbal\, voetbal. Ook zijn er grote springkussen\, leuke run attracties en nog veel meer. Kom je ook?Doelgroep4 – 12 jaarDagWoensdag 25\, donderdag 26 en vrijdag 27 februari KostenGratis Hoe kan ik meedoenKom naar de locatie en doe mee!Voor meer informatie: anoul@sciandri.com
URL:https://sciandri.com/activiteit/voorjaarsvakantie-sport-en-funtoer-sporthal-oostenburg/2026-02-26/
CATEGORIES:4-12 jr,Centrum
END:VEVENT
BEGIN:VEVENT
DTSTART;TZID=Europe/Helsinki:20260227T130000
DTEND;TZID=Europe/Helsinki:20260227T160000
DTSTAMP:20260421T225423
CREATED:20260212T134721Z
LAST-MODIFIED:20260212T134722Z
UID:10026585-1772197200-1772208000@sciandri.com
SUMMARY:Voorjaarsvakantie: Sport en Funtoer - Sporthal Oostenburg
DESCRIPTION:Omschrijving Tijdens de voorjaarsvakantie organiseert Sciandri de Sport en Funtoer in Sporthal Oostenburg met diverse sportclinics zoals: kickboksen\, dans\, floorbal\, basketbal\, voetbal. Ook zijn er grote springkussen\, leuke run attracties en nog veel meer. Kom je ook?Doelgroep4 – 12 jaarDagWoensdag 25\, donderdag 26 en vrijdag 27 februari KostenGratis Hoe kan ik meedoenKom naar de locatie en doe mee!Voor meer informatie: anoul@sciandri.com
URL:https://sciandri.com/activiteit/voorjaarsvakantie-sport-en-funtoer-sporthal-oostenburg/2026-02-27/
CATEGORIES:4-12 jr,Centrum
END:VEVENT
END:VCALENDAR